BEGIN:VCALENDAR
VERSION:2.0
PRODID:-//wp-events-plugin.com//7.2.3.1//EN
BEGIN:VEVENT
UID:221@biblio.ucaldas.edu.co
DTSTART;TZID=America/Bogota:20250415T160000
DTEND;TZID=America/Bogota:20250415T170000
DTSTAMP:20250410T132121Z
URL:https://biblio.ucaldas.edu.co/events/como-generar-un-proyecto-de-inves
 tigacion-de-alto-impacto-2/
SUMMARY:¿Cómo generar un proyecto de investigación de alto impacto?
DESCRIPTION:Agenda\n\n 	Lo más importante de Web of Science\n 	Creación d
 e mi perfil de usuario en Web of Science\n 	Ejercicios para localizar info
 rmación confiable\, novedosa e impactante\n 	Cómo recuperar textos compl
 etos en Open Access (EndNote Click)\n 	Conexión de ideas y citaciones en 
 índices complementarios de Web of Science\n\nEl objetivo de este webinar 
 es utilizar la Colección Principal de Web of Science y Scielo Citation In
 dex como aliadas para respaldar mis ideas haciendo uso de la información 
 más confiable\, novedosa e impactante de mi área de estudio.\n\nSitio de
  entrenamientos en español: https://www.youtube.com/@clarivatelatamoficia
 l1706/videos
LOCATION:https://clarivatewebinars.webex.com/webappng/sites/clarivatewebina
 rs/meeting/register/f81fa3ad39ac497a9ecaba5c94872458?ticket=4832534b000000
 07edf7d368b6437dafe8a3c88527cf7baa5514024c2749bd57136455dbd6908189&timesta
 mp=1744291178161&RGID=r12358df6923c9a49e6334e158749c187&isAutoPopRegisterF
 orm=false
END:VEVENT
BEGIN:VTIMEZONE
TZID:America/Bogota
X-LIC-LOCATION:America/Bogota
BEGIN:STANDARD
DTSTART:20240415T160000
TZOFFSETFROM:-0500
TZOFFSETTO:-0500
TZNAME:-05
END:STANDARD
END:VTIMEZONE
END:VCALENDAR