BEGIN:VCALENDAR
VERSION:2.0
PRODID:-//wp-events-plugin.com//7.2.3.1//EN
BEGIN:VEVENT
UID:205@biblio.ucaldas.edu.co
DTSTART;TZID=America/Bogota:20250225T130000
DTEND;TZID=America/Bogota:20250225T140000
DTSTAMP:20250207T190355Z
URL:https://biblio.ucaldas.edu.co/events/como-evitar-revistas-depredadoras
 -en-mis-proyectos-academicos-y-de-investigacion/
SUMMARY:¿Cómo evitar revistas depredadoras en mis proyectos académicos y
  de investigación?
DESCRIPTION:Agenda\n\n 	Introducción al Journal Citation Reports\n 	Métri
 cas importantes para medir la influencia de una revista (Factor de Impacto
  y Cuartiles)\n 	Ejercicios en el Manuscript Matcher para localizar revist
 as acorde al título y abstract de mi proyecto.\n 	Identificación de revi
 stas depredadoras\n\nEl objetivo de este webinar es utilizar el Journal Ci
 tation Reports para identificar a las revistas más leídas y citadas de m
 i área de estudio.\n\nSitio de entrenamientos en español: https://www.yo
 utube.com/@clarivatelatamoficial1706/videos\n\n&nbsp\;
LOCATION:https://clarivatewebinars.webex.com/webappng/sites/clarivatewebina
 rs/meeting/register/b458307966ea4789a8a9ecb6d1266c70?ticket=4832534b000000
 072596be8e1d015a46727d7488b45574d70f5a3bc85f768297b2fb2a4453651ca9&timesta
 mp=1738954657534&RGID=r2a4c54c3f1cdb49ce7824bf00ff44b00&isAutoPopRegisterF
 orm=false
END:VEVENT
BEGIN:VTIMEZONE
TZID:America/Bogota
X-LIC-LOCATION:America/Bogota
BEGIN:STANDARD
DTSTART:20240226T130000
TZOFFSETFROM:-0500
TZOFFSETTO:-0500
TZNAME:-05
END:STANDARD
END:VTIMEZONE
END:VCALENDAR