BEGIN:VCALENDAR
VERSION:2.0
PRODID:-//wp-events-plugin.com//7.2.3.1//EN
BEGIN:VEVENT
UID:295@biblio.ucaldas.edu.co
DTSTART;TZID=America/Bogota:20251104T130000
DTEND;TZID=America/Bogota:20251104T130000
DTSTAMP:20251031T121713Z
URL:https://biblio.ucaldas.edu.co/events/como-evitar-revistas-depredadoras
 -en-mis-proyectos-academicos-y-de-investigacion-3/
SUMMARY:¿Cómo evitar revistas depredadoras en mis proyectos académicos y
  de investigación?
DESCRIPTION:Agenda\n\n 	Introducción al Journal Citation Reports\n 	Métri
 cas importantes para medir la influencia de una revista (Factor de Impacto
  y Cuartiles)\n 	Ejercicios en el Manuscript Matcher para localizar revist
 as acorde al título y abstract de mi proyecto.\n 	Identificación de revi
 stas depredadoras\n 	El objetivo de este webinar es utilizar el Journal Ci
 tation Reports para identificar a las revistas más leídas y citadas de m
 i área de estudio.Sitio de entrenamientos en español: https://www.youtub
 e.com/@clarivatelatamoficial1706/videos\n
LOCATION:https://clarivatewebinars.webex.com/webappng/sites/clarivatewebina
 rs/meeting/register/0eb8236b5b924de6982a004b910ec9b3?ticket=4832534b000000
 07503d2f9433bd07492a0e18a1aac52e900241b772006c92442bbf5d213366b526&timesta
 mp=1761912668567&RGID=r7fa74175e2578a8fb8c1680ac248f5fa&isAutoPopRegisterF
 orm=false
END:VEVENT
BEGIN:VTIMEZONE
TZID:America/Bogota
X-LIC-LOCATION:America/Bogota
BEGIN:STANDARD
DTSTART:20241104T130000
TZOFFSETFROM:-0500
TZOFFSETTO:-0500
TZNAME:-05
END:STANDARD
END:VTIMEZONE
END:VCALENDAR