BEGIN:VCALENDAR
VERSION:2.0
PRODID:-//wp-events-plugin.com//7.2.3.1//EN
BEGIN:VEVENT
UID:223@biblio.ucaldas.edu.co
DTSTART;TZID=America/Bogota:20250429T160000
DTEND;TZID=America/Bogota:20250429T170000
DTSTAMP:20250410T132455Z
URL:https://biblio.ucaldas.edu.co/events/como-evitar-revistas-depredadoras
 -en-mis-proyectos-academicos-y-de-investigacion-2/
SUMMARY:¿Cómo evitar revistas depredadoras en mis proyectos académicos y
  de investigación?
DESCRIPTION:Agenda\n\n 	Introducción al Journal Citation Reports\n 	Métri
 cas importantes para medir la influencia de una revista (Factor de Impacto
  y Cuartiles)\n 	Ejercicios en el Manuscript Matcher para localizar revist
 as acorde al título y abstract de mi proyecto.\n 	Identificación de revi
 stas depredadoras\n\nEl objetivo de este webinar es utilizar el Journal Ci
 tation Reports para identificar a las revistas más leídas y citadas de m
 i área de estudio.\n\nSitio de entrenamientos en español: https://www.yo
 utube.com/@clarivatelatamoficial1706/videos
LOCATION:https://clarivatewebinars.webex.com/webappng/sites/clarivatewebina
 rs/meeting/register/a396d7ce8a2a4d24bf3a632c17e6749a?ticket=4832534b000000
 071cc1aad5d8cb76161a101840dcea5dfd92c873cfc692e5a5713cdf69e3bca705&timesta
 mp=1744291396618&RGID=rcd3af6771b29c8dc553f5f2fb45fc394&isAutoPopRegisterF
 orm=false
END:VEVENT
BEGIN:VTIMEZONE
TZID:America/Bogota
X-LIC-LOCATION:America/Bogota
BEGIN:STANDARD
DTSTART:20240429T160000
TZOFFSETFROM:-0500
TZOFFSETTO:-0500
TZNAME:-05
END:STANDARD
END:VTIMEZONE
END:VCALENDAR