BEGIN:VCALENDAR
VERSION:2.0
PRODID:-//wp-events-plugin.com//7.2.3.1//EN
BEGIN:VEVENT
UID:217@biblio.ucaldas.edu.co
DTSTART;TZID=America/Bogota:20250318T130000
DTEND;TZID=America/Bogota:20250318T140000
DTSTAMP:20250303T201929Z
URL:https://biblio.ucaldas.edu.co/events/como-desarrollar-y-dar-visibilida
 d-a-mi-articulo-de-investigacion-para-tener-un-mayor-alcance/
SUMMARY:¿Cómo desarrollar y dar visibilidad a mi artículo de investigaci
 ón para tener un mayor alcance?
DESCRIPTION:Agenda\n\n 	Características de un artículo de alto impacto (T
 op papers)\n 	Importancia de la información y datos de tu artículo\n 	Qu
 é se espera de mi artículo por parte de las editoriales?\n 	Qué debo es
 perar de la revista donde publicar?\n 	Cómo identificar revistas de calid
 ad y de alto impacto?\n\nEl objetivo de este webinar es realizar un repaso
  general de todos los puntos esenciales que se requieren para mejorar mis 
 habilidades como investigador haciendo uso de las herramientas que mi Inst
 itución suscribe.\n\nSitio de entrenamientos en español: https://www.you
 tube.com/@clarivatelatamoficial1706/videos
LOCATION:https://clarivatewebinars.webex.com/weblink/register/r2adec16c3271
 1a618de58e354fdfaa01
END:VEVENT
BEGIN:VTIMEZONE
TZID:America/Bogota
X-LIC-LOCATION:America/Bogota
BEGIN:STANDARD
DTSTART:20240318T130000
TZOFFSETFROM:-0500
TZOFFSETTO:-0500
TZNAME:-05
END:STANDARD
END:VTIMEZONE
END:VCALENDAR