BEGIN:VCALENDAR
VERSION:2.0
PRODID:-//wp-events-plugin.com//7.2.3.1//EN
BEGIN:VEVENT
UID:228@biblio.ucaldas.edu.co
DTSTART;TZID=America/Bogota:20250520T160000
DTEND;TZID=America/Bogota:20250520T170000
DTSTAMP:20250505T222743Z
URL:https://biblio.ucaldas.edu.co/events/como-desarrollar-y-dar-visibilida
 d-a-mi-articulo-de-investigacion-para-tener-un-mayor-alcance-2/
SUMMARY:¿Cómo desarrollar y dar visibilidad a mi artículo de investigaci
 ón para tener un mayor alcance?
DESCRIPTION:Agenda\n1. Características de un artículo de alto impacto (To
 p papers)\n2. Importancia de la información y datos de tu artículo\n3. Q
 ué se espera de mi artículo por parte de las editoriales?\n4. Qué debo 
 esperar de la revista donde publicar?\n5. Cómo identificar revistas de ca
 lidad y de alto impacto?\n\nEl objetivo de este webinar es realizar un rep
 aso general de todos los puntos esenciales que se requieren para mejorar m
 is habilidades como investigador haciendo uso de las herramientas que mi I
 nstitución suscribe.\n\nSitio de entrenamientos en español: https://www.
 youtube.com/@clarivatelatamoficial1706/videos
LOCATION:https://clarivatewebinars.webex.com/webappng/sites/clarivatewebina
 rs/meeting/register/7db15291837d447e9c438388a616cb7a?ticket=4832534b000000
 07fad508f6aae6cb1480ac264f926d75ba3eec0108d884143a934495eee2e5d045&timesta
 mp=1746483978856&RGID=r0d7fa9d2a147c4d97795dd23c34d54c7&isAutoPopRegisterF
 orm=false
END:VEVENT
BEGIN:VTIMEZONE
TZID:America/Bogota
X-LIC-LOCATION:America/Bogota
BEGIN:STANDARD
DTSTART:20240520T160000
TZOFFSETFROM:-0500
TZOFFSETTO:-0500
TZNAME:-05
END:STANDARD
END:VTIMEZONE
END:VCALENDAR