BEGIN:VCALENDAR
VERSION:2.0
PRODID:-//wp-events-plugin.com//7.2.3.1//EN
BEGIN:VEVENT
UID:304@biblio.ucaldas.edu.co
DTSTART;TZID=America/Bogota:20251111T130000
DTEND;TZID=America/Bogota:20251111T130000
DTSTAMP:20251031T125244Z
URL:https://biblio.ucaldas.edu.co/events/como-dar-visibilidad-a-los-result
 ados-de-mi-investigacion-con-un-codigo-unico-de-investigador-5/
SUMMARY:¿Cómo dar visibilidad a los resultados de mi investigación con u
 n código único de Investigador?
DESCRIPTION:Agenda\n1. Importancia de normalizar mi producción científica
 \n2. Creación de un código único de investigador en Web of Science\n3. 
 Ejercicios para alimentar mi perfil de investigador\n4. Cómo iniciar e im
 pulsar mi carrera como revisor por pares\n5. Compatibilidad de ORCID con m
 i perfil en Web of Science\n\nEl objetivo de este webinar es la creación 
 de mi código único de investigador en Web of Science para unificar mi pr
 oducción científica e impulsar mi carrera como investigador y revisor.\n
 \nSitio de entrenamientos en español: https://www.youtube.com/@clarivatel
 atamoficial1706/videos
LOCATION:https://clarivatewebinars.webex.com/webappng/sites/clarivatewebina
 rs/meeting/register/0fbf1050aee54fe9a574ea67b18c5f20?ticket=4832534b000000
 07a114febfa0165be6ebb10d634f00fba4a3a68971ebb8e29e4818710de3c0e7fb&timesta
 mp=1761914932087&RGID=rb79944ebc0f907950f350be037ad289d&isAutoPopRegisterF
 orm=false
END:VEVENT
BEGIN:VTIMEZONE
TZID:America/Bogota
X-LIC-LOCATION:America/Bogota
BEGIN:STANDARD
DTSTART:20241111T130000
TZOFFSETFROM:-0500
TZOFFSETTO:-0500
TZNAME:-05
END:STANDARD
END:VTIMEZONE
END:VCALENDAR