BEGIN:VCALENDAR
VERSION:2.0
PRODID:-//wp-events-plugin.com//7.2.3.1//EN
BEGIN:VEVENT
UID:271@biblio.ucaldas.edu.co
DTSTART;TZID=America/Bogota:20250909T160000
DTEND;TZID=America/Bogota:20250909T170000
DTSTAMP:20250908T133602Z
URL:https://biblio.ucaldas.edu.co/events/como-dar-visibilidad-a-los-result
 ados-de-mi-investigacion-con-un-codigo-unico-de-investigador-4/
SUMMARY:¿Cómo dar visibilidad a los resultados de mi investigación con u
 n código único de Investigador?
DESCRIPTION:Agenda\n\n 	Importancia de normalizar mi producción científic
 a\n 	Creación de un código único de investigador en Web of Science\n 	E
 jercicios para alimentar mi perfil de investigador\n 	Cómo iniciar e impu
 lsar mi carrera como revisor por pares\n 	Compatibilidad de ORCID con mi p
 erfil en Web of Science\n\nEl objetivo de este webinar es la creación de 
 mi código único de investigador en Web of Science para unificar mi produ
 cción científica e impulsar mi carrera como investigador y revisor.\n\nS
 itio de entrenamientos en español: https://www.youtube.com/@clarivatelata
 moficial1706/videos
LOCATION:https://clarivatewebinars.webex.com/webappng/sites/clarivatewebina
 rs/meeting/register/9a655597ee99407bacff312ac2b5bb08?ticket=4832534b000000
 0782867d19b44235c0a7a8ca4927464dba779ca9cdbe935e0bc169fd545b2f795b&timesta
 mp=1757338426541&RGID=re23f29d9b756bae29a33e3e8953666b4&isAutoPopRegisterF
 orm=false
END:VEVENT
BEGIN:VTIMEZONE
TZID:America/Bogota
X-LIC-LOCATION:America/Bogota
BEGIN:STANDARD
DTSTART:20240909T160000
TZOFFSETFROM:-0500
TZOFFSETTO:-0500
TZNAME:-05
END:STANDARD
END:VTIMEZONE
END:VCALENDAR