BEGIN:VCALENDAR
VERSION:2.0
PRODID:-//wp-events-plugin.com//7.2.3.1//EN
BEGIN:VEVENT
UID:285@biblio.ucaldas.edu.co
DTSTART;TZID=America/Bogota:20251021T093000
DTEND;TZID=America/Bogota:20251021T093000
DTSTAMP:20250930T145213Z
URL:https://biblio.ucaldas.edu.co/events/coleccion-oxford-journals-2022-co
 nsorcio-colombia/
SUMMARY:Colección Oxford Journals 2022\, Consorcio Colombia
DESCRIPTION:Acerca de este Webinar\n\nOxford University Press (OUP) publica
  revistas de la más alta calidad para el desarrollo de la investigación 
 a la audiencia más amplia posible. Lo logramos trabajando en estrecha col
 aboración con los socios\, autores y suscriptores de nuestra sociedad par
 a brindarles servicios de publicación que satisfagan sus necesidades de i
 nvestigación.\nConsideramos que nuestro papel en la comunidad académica 
 se extiende a la publicación que hacemos en nombre de las sociedades. Pub
 licamos más de 400 revistas académicas en humanidades\, ciencias sociale
 s\, derecho\, ciencia y medicina\, dos tercios de las cuales se publican c
 on sociedades científicas y profesionales. OUP tiene un prestigioso patri
 monio de investigación y un profundo conocimiento de los deseos y necesid
 ades de los investigadores y académicos.\n\nWhen: Martes\, Octubre 21\, 2
 025 · 9:30 a.m. · -05\nDuración: 1 hora\nIdioma: Español\n¿Quién pue
 de asistir? Cualquier persona con el enlace del evento puede asistir\nID d
 el seminario web: 986bd8062358\n¿Marcación disponible? (sólo escucha): 
 No
LOCATION:https://events.oup.com/oup-academic-sales/colecci-n-oxford-journal
 s-2022-consorcio-colombia
END:VEVENT
BEGIN:VTIMEZONE
TZID:America/Bogota
X-LIC-LOCATION:America/Bogota
BEGIN:STANDARD
DTSTART:20241021T093000
TZOFFSETFROM:-0500
TZOFFSETTO:-0500
TZNAME:-05
END:STANDARD
END:VTIMEZONE
END:VCALENDAR