BEGIN:VCALENDAR
VERSION:2.0
PRODID:-//wp-events-plugin.com//7.2.3.1//EN
BEGIN:VEVENT
UID:289@biblio.ucaldas.edu.co
DTSTART;TZID=America/Bogota:20251021T150000
DTEND;TZID=America/Bogota:20251021T150000
DTSTAMP:20251015T134828Z
URL:https://biblio.ucaldas.edu.co/events/clinicalkey-physician-acceso-a-la
 -medicina-basada-en-evidencia/
SUMMARY:ClinicalKey Physician: Acceso a la Medicina Basada en Evidencia
DESCRIPTION:Explora ClinicalKey Physician\, tu fuente integral de informaci
 ón clínica para apoyar diagnósticos\, tratamientos y decisiones médica
 s. Esta sesión mostrará cómo navegar por la plataforma\, buscar informa
 ción confiable y utilizar herramientas como guías clínicas\, imágenes\
 , videos y medicamentos.\nHerramientas que utilizaremos: ClinicalKey Phys
 ician - Español: Online.
LOCATION:https://events.teams.microsoft.com/event/b1f2d9b5-7394-4165-9cc6-c
 3f78124f6e3@449988ad-bc94-4b3c-bce0-4a57da430394
END:VEVENT
BEGIN:VTIMEZONE
TZID:America/Bogota
X-LIC-LOCATION:America/Bogota
BEGIN:STANDARD
DTSTART:20241021T150000
TZOFFSETFROM:-0500
TZOFFSETTO:-0500
TZNAME:-05
END:STANDARD
END:VTIMEZONE
END:VCALENDAR