BEGIN:VCALENDAR
VERSION:2.0
PRODID:-//wp-events-plugin.com//7.2.3.1//EN
BEGIN:VEVENT
UID:252@biblio.ucaldas.edu.co
DTSTART;TZID=America/Bogota:20250812T100000
DTEND;TZID=America/Bogota:20250812T110000
DTSTAMP:20250728T142201Z
URL:https://biblio.ucaldas.edu.co/events/busqueda-de-informacion-cientific
 a-con-springer-nature-link-2/
SUMMARY:Búsqueda de información científica con Springer Nature Link
DESCRIPTION:En esta capacitación exploraremos a fondo las características
  avanzadas de Springer NatureLink\, una de las plataformas más completas 
 para acceder a literatura científica. Aprenderás a identificar cuándo y
  por qué utilizar Springer NatureLink según tus necesidades de informaci
 ón\, con estrategias para aprovechar al máximo sus herramientas de búsq
 ueda y filtrado. Desde la navegación eficiente hasta la selección de rec
 ursos relevantes\, este curso está diseñado para proporcionarte las habi
 lidades prácticas necesarias para mejorar tu proceso de investigación.
LOCATION:https://events.teams.microsoft.com/event/156da3ab-72ea-471f-917d-b
 d6ba5966ef1@d9aabe7c-608b-4fe1-957c-0739cb0dfe22
END:VEVENT
BEGIN:VTIMEZONE
TZID:America/Bogota
X-LIC-LOCATION:America/Bogota
BEGIN:STANDARD
DTSTART:20240812T100000
TZOFFSETFROM:-0500
TZOFFSETTO:-0500
TZNAME:-05
END:STANDARD
END:VTIMEZONE
END:VCALENDAR