BEGIN:VCALENDAR
VERSION:2.0
PRODID:-//wp-events-plugin.com//7.2.3.1//EN
BEGIN:VEVENT
UID:241@biblio.ucaldas.edu.co
DTSTART;TZID=America/Bogota:20250715T093000
DTEND;TZID=America/Bogota:20250715T093000
DTSTAMP:20250703T160559Z
URL:https://biblio.ucaldas.edu.co/events/autores-acuerdo-de-lectura-y-publ
 icacion-oup-portal-scipris-online/
SUMMARY:Autores: Acuerdo de Lectura y Publicación OUP portal SciPris Onlin
 e
DESCRIPTION:\n\nAcerca de este Webinar\n\nLa sesión de capacitación tiene
  el objetivo de exponer los procedimientos que debe seguir un autor (a) qu
 e pretenda acogerse al Acuerdo de Lectura y Publicación en su institució
 n\, con el fin de obtener financiación para sufragar los gastos de proces
 amiento del artículo a publicar.\n\n\n\nMartes\, Julio 15\, 2025 - 9:30 a
 .m.\nDuración: 35 minutos\nIdioma: Español\n¿Quién puede asistir? C
 ualquier persona con el enlace del evento puede asistir\nID del seminario 
 web: e7bdba3b19f9\n
LOCATION:https://events.oup.com/oup-academic-sales/acuerdo-de-lectura-y-pub
 licaci-n-oup-procedimiento-para-autores
END:VEVENT
BEGIN:VTIMEZONE
TZID:America/Bogota
X-LIC-LOCATION:America/Bogota
BEGIN:STANDARD
DTSTART:20240715T093000
TZOFFSETFROM:-0500
TZOFFSETTO:-0500
TZNAME:-05
END:STANDARD
END:VTIMEZONE
END:VCALENDAR