BEGIN:VCALENDAR
VERSION:2.0
PRODID:-//wp-events-plugin.com//7.2.3.1//EN
BEGIN:VEVENT
UID:291@biblio.ucaldas.edu.co
DTSTART;TZID=America/Bogota:20251028T150000
DTEND;TZID=America/Bogota:20251028T150000
DTSTAMP:20251015T135246Z
URL:https://biblio.ucaldas.edu.co/events/aplicacion-clinica-de-los-cuidado
 s-de-enfermeria-con-nnn-consult/
SUMMARY:Aplicación Clínica de los Cuidados de Enfermería con NNN Consult
DESCRIPTION:Una masterclass avanzada para profundizar en cómo utilizar NNN
  Consult en la práctica clínica diaria. Se revisarán casos reales donde
  se aplican diagnósticos NANDA\, intervenciones NIC y resultados NOC\, pr
 omoviendo un cuidado basado en evidencia y centrado en el paciente.\nHerra
 mientas que utilizaremos: ClinicalKey Student Nursing + NNN Consult: Onli
 ne.
LOCATION:https://events.teams.microsoft.com/event/6da7f609-7c80-4401-9f4b-d
 73d1e7e3046@449988ad-bc94-4b3c-bce0-4a57da430394
END:VEVENT
BEGIN:VTIMEZONE
TZID:America/Bogota
X-LIC-LOCATION:America/Bogota
BEGIN:STANDARD
DTSTART:20241028T150000
TZOFFSETFROM:-0500
TZOFFSETTO:-0500
TZNAME:-05
END:STANDARD
END:VTIMEZONE
END:VCALENDAR