BEGIN:VCALENDAR
VERSION:2.0
PRODID:-//wp-events-plugin.com//7.2.3.1//EN
BEGIN:VEVENT
UID:216@biblio.ucaldas.edu.co
DTSTART;TZID=America/Bogota:20250311T130000
DTEND;TZID=America/Bogota:20250311T140000
DTSTAMP:20250303T201745Z
URL:https://biblio.ucaldas.edu.co/events/analicemos-la-tendencia-global-en
 -la-investigacion-a-traves-de-la-bibliometria/
SUMMARY:Analicemos la tendencia global en la investigación a través de la
  Bibliometría
DESCRIPTION:Agenda\n\n 	Características de Incites Benchmarking &amp\; Ana
 lytics y Research Horizon Navigator\n 	Tipos de reportes disponibles dentr
 o de la plataforma\n 	Conozca las métricas dentro de Incites B&amp\;A\n 	
 Genere reportes para analizar la tendencia en Open Access\n 	Obtén inform
 ación estratégica para la toma de decisiones a través de los reportes p
 ersonalizados\n\nEl objetivo de este webinar es utilizar Incites Benchmark
 ing &amp\; Analytics para conocer la producción científica global y real
 izar reportes estratégicos.\n\nSitio de entrenamientos en español: https
 ://www.youtube.com/@clarivatelatamoficial1706/videos
LOCATION:https://clarivatewebinars.webex.com/weblink/register/r4a6508aa4ef1
 9134cbbeddef3257ce87
END:VEVENT
BEGIN:VTIMEZONE
TZID:America/Bogota
X-LIC-LOCATION:America/Bogota
BEGIN:STANDARD
DTSTART:20240311T130000
TZOFFSETFROM:-0500
TZOFFSETTO:-0500
TZNAME:-05
END:STANDARD
END:VTIMEZONE
END:VCALENDAR