BEGIN:VCALENDAR
VERSION:2.0
PRODID:-//wp-events-plugin.com//7.2.3.1//EN
BEGIN:VEVENT
UID:242@biblio.ucaldas.edu.co
DTSTART;TZID=America/Bogota:20250715T130000
DTEND;TZID=America/Bogota:20250715T140000
DTSTAMP:20250703T160759Z
URL:https://biblio.ucaldas.edu.co/events/analicemos-la-tendencia-global-en
 -la-investigacion-a-traves-de-la-bibliometria-3/
SUMMARY:Analicemos la tendencia global en la investigación a través de la
  Bibliometría
DESCRIPTION:Agenda\n1. Características de Incites Benchmarking &amp\; Anal
 ytics y Research Horizon Navigator\n2. Tipos de reportes disponibles dentr
 o de la plataforma\n3. Conzca las métricas dentro de Incites B&amp\;A\n4.
  Genere reportes para analizar la tendencia en Open Access 5. Obtén infor
 mación estratégica para la toma de decisiones a través de los reportes 
 personalizados\n\nEl objetivo de este webinar es utilizar Incites Benchmar
 king &amp\; Analytics para conocer la producción científica global y rea
 lizar reportes estratégicos.\n\nSitio de entrenamientos en español: http
 s://www.youtube.com/@clarivatelatamoficial1706/videos
LOCATION:https://clarivatewebinars.webex.com/webappng/sites/clarivatewebina
 rs/meeting/register/1227b7acb1484faabbfdfbc31256d7f9?ticket=4832534b000000
 07160ccc22b2840082e1c3b382fe9e75d67d6b8b559b3a8da5ca97ae43afd68772&timesta
 mp=1751558775211&RGID=rc27eef48367dd4a00228b975c6c5e6ce&isAutoPopRegisterF
 orm=false
END:VEVENT
BEGIN:VTIMEZONE
TZID:America/Bogota
X-LIC-LOCATION:America/Bogota
BEGIN:STANDARD
DTSTART:20240715T130000
TZOFFSETFROM:-0500
TZOFFSETTO:-0500
TZNAME:-05
END:STANDARD
END:VTIMEZONE
END:VCALENDAR