BEGIN:VCALENDAR
VERSION:2.0
PRODID:-//wp-events-plugin.com//7.2.3.1//EN
BEGIN:VEVENT
UID:232@biblio.ucaldas.edu.co
DTSTART;TZID=America/Bogota:20250617T110000
DTEND;TZID=America/Bogota:20250617T110000
DTSTAMP:20250515T205923Z
URL:https://biblio.ucaldas.edu.co/events/10-pasos-para-garantizar-el-exito
 -en-la-busqueda-de-informacion-con-springer-nature-link-y-nature-com/
SUMMARY:10 pasos para garantizar el éxito en la búsqueda de información 
 con Springer Nature Link y Nature.com
DESCRIPTION:10 pasos para garantizar el éxito en la búsqueda de informaci
 ón con Springer Nature Link y Nature.com\n&nbsp\;\n\nDescripción\n\nEste
  curso revelará un proceso probado y estructurado en diez pasos para enco
 ntrar información pertinente para tu tema de investigación. Aprenderás 
 a maximizar tus búsquedas\, incluyendo la elección del método de búsqu
 eda\, la identificación de las palabras clave más convenientes y el uso 
 de operadores booleanos. Con técnicas prácticas y estrategias expertas\,
  te equiparemos con las habilidades necesarias para encontrar y utilizar i
 nformación de manera eficiente y efectiva.
LOCATION:https://us06web.zoom.us/webinar/register/WN_bEVooZMqRGK-n2RT93Mfzw
 ?sap-outbound-id=A8E5BA5ECCD7515F5D4D62FEFC0B7A81EF50D785#/registration
END:VEVENT
BEGIN:VTIMEZONE
TZID:America/Bogota
X-LIC-LOCATION:America/Bogota
BEGIN:STANDARD
DTSTART:20240617T110000
TZOFFSETFROM:-0500
TZOFFSETTO:-0500
TZNAME:-05
END:STANDARD
END:VTIMEZONE
END:VCALENDAR