BEGIN:VCALENDAR
VERSION:2.0
PRODID:-//wp-events-plugin.com//7.2.3.1//EN
BEGIN:VEVENT
UID:303@biblio.ucaldas.edu.co
DTSTART;TZID=America/Bogota:20251111T100000
DTEND;TZID=America/Bogota:20251111T100000
DTSTAMP:20251031T124847Z
URL:https://biblio.ucaldas.edu.co/events/10-pasos-para-garantizar-el-exito
 -en-la-busqueda-de-informacion-con-springer-nature-link-y-nature-com-2/
SUMMARY:10 pasos para garantizar el éxito en la búsqueda de información 
 con Springer Nature Link y Nature.com
DESCRIPTION:Detalles\nEste curso revelará un proceso probado y estructurad
 o en diez pasos para encontrar información pertinente para tu tema de inv
 estigación. Aprenderás a maximizar tus búsquedas\, incluyendo la elecci
 ón del método de búsqueda\, la identificación de las palabras clave m
 ás convenientes y el uso de operadores booleanos. Con técnicas práctica
 s y estrategias expertas\, te equiparemos con las habilidades necesarias p
 ara encontrar y utilizar información de manera eficiente y efectiva.
LOCATION:https://events.teams.microsoft.com/event/c6ef81e1-b1f4-4c2c-a6fe-2
 9c10fb7ebe5@d9aabe7c-608b-4fe1-957c-0739cb0dfe22
END:VEVENT
BEGIN:VTIMEZONE
TZID:America/Bogota
X-LIC-LOCATION:America/Bogota
BEGIN:STANDARD
DTSTART:20241111T100000
TZOFFSETFROM:-0500
TZOFFSETTO:-0500
TZNAME:-05
END:STANDARD
END:VTIMEZONE
END:VCALENDAR